BEGIN:VCALENDAR
VERSION:2.0
PRODID:-//Heartland Womens Network - ECPv6.15.20//NONSGML v1.0//EN
CALSCALE:GREGORIAN
METHOD:PUBLISH
X-ORIGINAL-URL:https://www.heartlandwomensnetwork.com
X-WR-CALDESC:Events for Heartland Womens Network
REFRESH-INTERVAL;VALUE=DURATION:PT1H
X-Robots-Tag:noindex
X-PUBLISHED-TTL:PT1H
BEGIN:VTIMEZONE
TZID:America/Chicago
BEGIN:DAYLIGHT
TZOFFSETFROM:-0600
TZOFFSETTO:-0500
TZNAME:CDT
DTSTART:20250309T080000
END:DAYLIGHT
BEGIN:STANDARD
TZOFFSETFROM:-0500
TZOFFSETTO:-0600
TZNAME:CST
DTSTART:20251102T070000
END:STANDARD
BEGIN:DAYLIGHT
TZOFFSETFROM:-0600
TZOFFSETTO:-0500
TZNAME:CDT
DTSTART:20260308T080000
END:DAYLIGHT
BEGIN:STANDARD
TZOFFSETFROM:-0500
TZOFFSETTO:-0600
TZNAME:CST
DTSTART:20261101T070000
END:STANDARD
BEGIN:DAYLIGHT
TZOFFSETFROM:-0600
TZOFFSETTO:-0500
TZNAME:CDT
DTSTART:20270314T080000
END:DAYLIGHT
BEGIN:STANDARD
TZOFFSETFROM:-0500
TZOFFSETTO:-0600
TZNAME:CST
DTSTART:20271107T070000
END:STANDARD
END:VTIMEZONE
BEGIN:VEVENT
DTSTART;TZID=America/Chicago:20260421T113000
DTEND;TZID=America/Chicago:20260421T123000
DTSTAMP:20260420T082434
CREATED:20260308T212613Z
LAST-MODIFIED:20260418T172716Z
UID:14879-1776771000-1776774600@www.heartlandwomensnetwork.com
SUMMARY:2026 April Luncheon w/ First Responders Foundation
DESCRIPTION:Save the Date:\nTuesday\, April 21\, 2026 \nDenise M. Moore\, JD\nVice President\nFirst Responders Foundation \nREGISTER \nPlease arrive at 11:15 a.m. to pick up your lunch \nProgram starts at 11:30 a.m. \nStay to network after the program ends at 12:30 p.m. \nNote: In the event of inclement weather\, lunch meetings and other scheduled events will be canceled if the Omaha School District closes. Registrants will be notified\, and refunds will be issued in accordance with board policy. \n 
URL:https://www.heartlandwomensnetwork.com/event/2026-april-luncheon-w-first-responders-foundation/
LOCATION:Midland University Omaha\, 11213 Davenport Street\, Omaha\, NE\, United States
END:VEVENT
END:VCALENDAR